BEGIN:VCALENDAR
VERSION:2.0
PRODID:-//SmartBody SmartMind - ECPv5.12.3//NONSGML v1.0//EN
CALSCALE:GREGORIAN
METHOD:PUBLISH
X-WR-CALNAME:SmartBody SmartMind
X-ORIGINAL-URL:https://smartbodysmartmind.com
X-WR-CALDESC:Events for SmartBody SmartMind
BEGIN:VTIMEZONE
TZID:America/Vancouver
BEGIN:DAYLIGHT
TZOFFSETFROM:-0800
TZOFFSETTO:-0700
TZNAME:PDT
DTSTART:20260308T100000
END:DAYLIGHT
BEGIN:STANDARD
TZOFFSETFROM:-0700
TZOFFSETTO:-0800
TZNAME:PST
DTSTART:20261101T090000
END:STANDARD
END:VTIMEZONE
BEGIN:VEVENT
DTSTART;TZID=America/Vancouver:20260424T100000
DTEND;TZID=America/Vancouver:20260424T113000
DTSTAMP:20260424T082200
CREATED:20260205T225201Z
LAST-MODIFIED:20260205T225201Z
UID:167027-1777024800-1777030200@smartbodysmartmind.com
SUMMARY:Movement Lesson Integration Call with Elia
DESCRIPTION:.\nThis call is a chance for you to ask Elia questions about the movement lessons in SBSM. Elia will also be sharing his perspectives on how those movement lessons support the education within SBSM. \nAll the calls will be recorded and uploaded right here within 24 hours. \nJOIN ZOOM MEETING\nMeeting ID: 815 4581 5209\nPasscode: 471470 \n  \nDial in:\nFind your local number: https://us02web.zoom.us/u/kesGnrd7Q4
URL:https://smartbodysmartmind.com/calendar/movement-lesson-integration-call-with-elia-4/
CATEGORIES:Movement Lesson Call
END:VEVENT
BEGIN:VEVENT
DTSTART;TZID=America/Vancouver:20260428T110000
DTEND;TZID=America/Vancouver:20260428T123000
DTSTAMP:20260424T082200
CREATED:20260205T010554Z
LAST-MODIFIED:20260205T010554Z
UID:167007-1777374000-1777379400@smartbodysmartmind.com
SUMMARY:Training Call #6 with Irene
DESCRIPTION:.\nTOPIC: Anger & Healthy Aggression – PART 2\n> CLICK HERE FOR THE FILL-IN-THE-BLANKS HANDOUT THAT GOES WITH THIS CALL <\n> CLICK HERE FOR THE FILL-IN-THE-BLANKS HANDOUT COMPLETED WITH ANSWERS <\nAll the calls will be recorded and uploaded right here within 24 hours. \nJOIN ZOOM MEETING\nMeeting ID: 880 7500 7378\nPasscode: 286637 \nDial in:\nFind your local number: https://us02web.zoom.us/u/kesGnrd7Q4
URL:https://smartbodysmartmind.com/calendar/training-call-6-with-irene-8/
CATEGORIES:Training Call
END:VEVENT
BEGIN:VEVENT
DTSTART;TZID=America/Vancouver:20260430T100000
DTEND;TZID=America/Vancouver:20260430T113000
DTSTAMP:20260424T082200
CREATED:20260205T010714Z
LAST-MODIFIED:20260205T010714Z
UID:167009-1777543200-1777548600@smartbodysmartmind.com
SUMMARY:Curated Q&A Call #7 with Seth
DESCRIPTION:. \nAll the calls will be recorded and uploaded right here within 24 hours. \nJOIN ZOOM MEETING\nMeeting ID: 891 0063 8144\nPasscode: 219179 \n  \nDial in:\nFind your local number: https://us02web.zoom.us/u/kesGnrd7Q4
URL:https://smartbodysmartmind.com/calendar/curated-qa-call-7-with-seth-2/
CATEGORIES:Curated Q&A Call
END:VEVENT
BEGIN:VEVENT
DTSTART;TZID=America/Vancouver:20260512T110000
DTEND;TZID=America/Vancouver:20260512T123000
DTSTAMP:20260424T082200
CREATED:20260205T010901Z
LAST-MODIFIED:20260205T010901Z
UID:167011-1778583600-1778589000@smartbodysmartmind.com
SUMMARY:Training Call #7 with Seth
DESCRIPTION:.\nTOPIC: Other Primal Emotions & Healing The Somatic Imprint of Toxic Shame\n> CLICK HERE FOR THE FILL-IN-THE-BLANKS HANDOUT THAT GOES WITH THIS CALL <\n> CLICK HERE FOR THE FILL-IN-THE-BLANKS HANDOUT COMPLETED WITH ANSWERS <\nAll the calls will be recorded and uploaded right here within 24 hours. \nJOIN ZOOM MEETING\nMeeting ID: 880 7500 7378\nPasscode: 286637 \nDial in:\nFind your local number: https://us02web.zoom.us/u/kesGnrd7Q4
URL:https://smartbodysmartmind.com/calendar/training-call-7-with-seth/
CATEGORIES:Training Call
END:VEVENT
BEGIN:VEVENT
DTSTART;TZID=America/Vancouver:20260514T150000
DTEND;TZID=America/Vancouver:20260514T163000
DTSTAMP:20260424T082200
CREATED:20260205T011121Z
LAST-MODIFIED:20260205T011130Z
UID:167013-1778770800-1778776200@smartbodysmartmind.com
SUMMARY:Curated Q&A Call #8 with Seth & Jen. Special Topic: Early/Developmental Trauma
DESCRIPTION:. \nAll the calls will be recorded and uploaded right here within 24 hours. \nJOIN ZOOM MEETING\nMeeting ID: 891 0063 8144\nPasscode: 219179 \n  \nDial in:\nFind your local number: https://us02web.zoom.us/u/kesGnrd7Q4
URL:https://smartbodysmartmind.com/calendar/curated-qa-call-8-with-seth-jen-special-topic-early-developmental-trauma/
CATEGORIES:Curated Q&A Call
END:VEVENT
BEGIN:VEVENT
DTSTART;TZID=America/Vancouver:20260519T110000
DTEND;TZID=America/Vancouver:20260519T123000
DTSTAMP:20260424T082200
CREATED:20260205T011238Z
LAST-MODIFIED:20260205T011247Z
UID:167015-1779188400-1779193800@smartbodysmartmind.com
SUMMARY:Training Call #8 with Irene
DESCRIPTION:.\nTOPIC: Feldenkraisian Learning & Intentional Human Movement\n> CLICK HERE FOR THE FILL-IN-THE-BLANKS HANDOUT THAT GOES WITH THIS CALL <\n> CLICK HERE FOR THE FILL-IN-THE-BLANKS HANDOUT COMPLETED WITH ANSWERS <
URL:https://smartbodysmartmind.com/calendar/training-call-8-with-irene-9/
CATEGORIES:Training Call
END:VEVENT
BEGIN:VEVENT
DTSTART;TZID=America/Vancouver:20260521T100000
DTEND;TZID=America/Vancouver:20260521T113000
DTSTAMP:20260424T082200
CREATED:20260205T011411Z
LAST-MODIFIED:20260205T011411Z
UID:167017-1779357600-1779363000@smartbodysmartmind.com
SUMMARY:Curated Q&A Call #9 with Seth. Special topic: Shock Trauma
DESCRIPTION:. \nAll the calls will be recorded and uploaded right here within 24 hours. \nJOIN ZOOM MEETING\nMeeting ID: 891 0063 8144\nPasscode: 219179 \n  \nDial in:\nFind your local number: https://us02web.zoom.us/u/kesGnrd7Q4
URL:https://smartbodysmartmind.com/calendar/curated-qa-call-9-with-seth-special-topic-shock-trauma/
CATEGORIES:Curated Q&A Call
END:VEVENT
BEGIN:VEVENT
DTSTART;TZID=America/Vancouver:20260526T110000
DTEND;TZID=America/Vancouver:20260526T123000
DTSTAMP:20260424T082200
CREATED:20260205T011612Z
LAST-MODIFIED:20260205T011612Z
UID:167019-1779793200-1779798600@smartbodysmartmind.com
SUMMARY:Training Call #9 with Irene
DESCRIPTION:.\nTOPIC: Neuroplastic Healing Sequencing: Theory + Practice = Application + Integration\n> CLICK HERE FOR THE FILL-IN-THE-BLANKS HANDOUT THAT GOES WITH THIS CALL <\n> CLICK HERE FOR THE FILL-IN-THE-BLANKS HANDOUT COMPLETED WITH ANSWERS <\nAll the calls will be recorded and uploaded right here within 24 hours. \nJOIN ZOOM MEETING\nMeeting ID: 880 7500 7378\nPasscode: 286637 \nDial in:\nFind your local number: https://us02web.zoom.us/u/kesGnrd7Q4
URL:https://smartbodysmartmind.com/calendar/training-call-9-with-irene-8/
CATEGORIES:Training Call
END:VEVENT
BEGIN:VEVENT
DTSTART;TZID=America/Vancouver:20260528T150000
DTEND;TZID=America/Vancouver:20260528T163000
DTSTAMP:20260424T082200
CREATED:20260205T011740Z
LAST-MODIFIED:20260205T011810Z
UID:167021-1779980400-1779985800@smartbodysmartmind.com
SUMMARY:Curated Q&A Call #10 with Seth
DESCRIPTION:. \nAll the calls will be recorded and uploaded right here within 24 hours. \nJOIN ZOOM MEETING\nMeeting ID: 891 0063 8144\nPasscode: 219179 \n  \nDial in:\nFind your local number: https://us02web.zoom.us/u/kesGnrd7Q4
URL:https://smartbodysmartmind.com/calendar/curated-qa-call-10-with-seth-4/
CATEGORIES:Curated Q&A Call
END:VEVENT
BEGIN:VEVENT
DTSTART;TZID=America/Vancouver:20260602T110000
DTEND;TZID=America/Vancouver:20260602T123000
DTSTAMP:20260424T082200
CREATED:20260205T012106Z
LAST-MODIFIED:20260205T012106Z
UID:167023-1780398000-1780403400@smartbodysmartmind.com
SUMMARY:SBSM 19.0 Wrap Up Call
DESCRIPTION:. \n\nI’ll start the call with a basic guided neurosensory lesson (short and simple).\nI’ll cover some basic housekeeping\, plus suggestions for practicing your new nervous system language.\nI’ll close with a guided intention for moving forward and bringing this work to the world.\n\n. \nJoin the call \nMeeting ID: 882 1475 1251\nPasscode: 210109 \nFind your local number: https://us02web.zoom.us/u/kbFVTDsPZY
URL:https://smartbodysmartmind.com/calendar/sbsm-19-0-wrap-up-call/
CATEGORIES:Wrap-Up Call
END:VEVENT
END:VCALENDAR